BEGIN:VCALENDAR
VERSION:2.0
PRODID:-//Bonnet House - ECPv6.15.14//NONSGML v1.0//EN
CALSCALE:GREGORIAN
METHOD:PUBLISH
X-ORIGINAL-URL:https://www.bonnethouse.org
X-WR-CALDESC:Events for Bonnet House
REFRESH-INTERVAL;VALUE=DURATION:PT1H
X-Robots-Tag:noindex
X-PUBLISHED-TTL:PT1H
BEGIN:VTIMEZONE
TZID:America/New_York
BEGIN:DAYLIGHT
TZOFFSETFROM:-0500
TZOFFSETTO:-0400
TZNAME:EDT
DTSTART:20240310T070000
END:DAYLIGHT
BEGIN:STANDARD
TZOFFSETFROM:-0400
TZOFFSETTO:-0500
TZNAME:EST
DTSTART:20241103T060000
END:STANDARD
BEGIN:DAYLIGHT
TZOFFSETFROM:-0500
TZOFFSETTO:-0400
TZNAME:EDT
DTSTART:20250309T070000
END:DAYLIGHT
BEGIN:STANDARD
TZOFFSETFROM:-0400
TZOFFSETTO:-0500
TZNAME:EST
DTSTART:20251102T060000
END:STANDARD
BEGIN:DAYLIGHT
TZOFFSETFROM:-0500
TZOFFSETTO:-0400
TZNAME:EDT
DTSTART:20260308T070000
END:DAYLIGHT
BEGIN:STANDARD
TZOFFSETFROM:-0400
TZOFFSETTO:-0500
TZNAME:EST
DTSTART:20261101T060000
END:STANDARD
END:VTIMEZONE
BEGIN:VEVENT
DTSTART;TZID=America/New_York:20251111T110000
DTEND;TZID=America/New_York:20251111T150000
DTSTAMP:20260420T104357
CREATED:20221025T193407Z
LAST-MODIFIED:20251021T151102Z
UID:12715-1762858800-1762873200@www.bonnethouse.org
SUMMARY:Veterans Day Discount
DESCRIPTION:Celebrate Veterans Day with the Gift of Art & Culture\nTuesday\, November 11 | 11:00 AM – 3:00 PM \nBonnet House Museum & Gardens is honoring Veterans this Veterans Day with complimentary admission to explore the beauty and history of our estate. \nVeterans receive free admission with the purchase of one full-priced self-guided tour ticket ($25). Step back in time and experience life as it was in the 1930s and 1940s. Tour the historic house museum\, filled with a charming collection of art and personal treasures from the Bartlett family\, and wander the nature trails surrounded by native plants\, trees\, and coastal birds. \nJoin us in celebrating those who served with a day of discovery\, reflection\, and appreciation. \nNo other discounts apply. Tickets are sold at the Welcome Center.
URL:https://www.bonnethouse.org/event/veterans-day-discount/
CATEGORIES:Specialty Tours,Veterans Day
ATTACH;FMTTYPE=image/jpeg:https://www.bonnethouse.org/wp-content/uploads/2019/03/flag2.jpg
END:VEVENT
END:VCALENDAR