BEGIN:VCALENDAR
VERSION:2.0
PRODID:-//Bonnet House - ECPv6.15.14//NONSGML v1.0//EN
CALSCALE:GREGORIAN
METHOD:PUBLISH
X-WR-CALNAME:Bonnet House
X-ORIGINAL-URL:https://www.bonnethouse.org
X-WR-CALDESC:Events for Bonnet House
REFRESH-INTERVAL;VALUE=DURATION:PT1H
X-Robots-Tag:noindex
X-PUBLISHED-TTL:PT1H
BEGIN:VTIMEZONE
TZID:America/New_York
BEGIN:DAYLIGHT
TZOFFSETFROM:-0500
TZOFFSETTO:-0400
TZNAME:EDT
DTSTART:20250309T070000
END:DAYLIGHT
BEGIN:STANDARD
TZOFFSETFROM:-0400
TZOFFSETTO:-0500
TZNAME:EST
DTSTART:20251102T060000
END:STANDARD
BEGIN:DAYLIGHT
TZOFFSETFROM:-0500
TZOFFSETTO:-0400
TZNAME:EDT
DTSTART:20260308T070000
END:DAYLIGHT
BEGIN:STANDARD
TZOFFSETFROM:-0400
TZOFFSETTO:-0500
TZNAME:EST
DTSTART:20261101T060000
END:STANDARD
BEGIN:DAYLIGHT
TZOFFSETFROM:-0500
TZOFFSETTO:-0400
TZNAME:EDT
DTSTART:20270314T070000
END:DAYLIGHT
BEGIN:STANDARD
TZOFFSETFROM:-0400
TZOFFSETTO:-0500
TZNAME:EST
DTSTART:20271107T060000
END:STANDARD
BEGIN:DAYLIGHT
TZOFFSETFROM:-0500
TZOFFSETTO:-0400
TZNAME:EDT
DTSTART:20280312T070000
END:DAYLIGHT
BEGIN:STANDARD
TZOFFSETFROM:-0400
TZOFFSETTO:-0500
TZNAME:EST
DTSTART:20281105T060000
END:STANDARD
END:VTIMEZONE
BEGIN:VTIMEZONE
TZID:UTC
BEGIN:STANDARD
TZOFFSETFROM:+0000
TZOFFSETTO:+0000
TZNAME:UTC
DTSTART:20250101T000000
END:STANDARD
END:VTIMEZONE
BEGIN:VEVENT
DTSTART;TZID=America/New_York:20260715T160000
DTEND;TZID=America/New_York:20260715T180000
DTSTAMP:20260421T123813
CREATED:20250529T160229Z
LAST-MODIFIED:20260123T211957Z
UID:13733-1784131200-1784138400@www.bonnethouse.org
SUMMARY:Bonnet House Fine Artists Opening Reception
DESCRIPTION:Step into a vibrant celebration of local creativity in the Gallery’s middle room\, where the Bonnet House Fine Artists’ Exhibits showcase a rotating collection of works by talented regional artists. \nJoin us for each exhibit’s opening reception\, where you’ll enjoy a sparkling wine welcome\, delicious hors d’oeuvres\, and a cash bar offering beer\, wine\, and soda. \nIt’s a relaxed and inviting setting—perfect for connecting with the artists and fellow art enthusiasts.  \n$5 Members\, $10 Non-Members (Pre-registration is required)\nRegister Here!\nGenerously sponsored by:  Kimpton Shorebreak Fort Lauderdale Beach Resort\, Brody & Brody\, P.A. & Mary Joe and Richard Brown.
URL:https://www.bonnethouse.org/event/bonnet-house-fine-artists-opening-reception-4/
LOCATION:FL
CATEGORIES:Art Exhibits
ATTACH;FMTTYPE=image/jpeg:https://www.bonnethouse.org/wp-content/uploads/2024/09/FredericBartlettPaintingKentPlanckLectureFeb2025.jpg
END:VEVENT
BEGIN:VEVENT
DTSTART;TZID=UTC:20260915T093000
DTEND;TZID=UTC:20260915T113000
DTSTAMP:20260421T123813
CREATED:20170509T184119Z
LAST-MODIFIED:20260421T145032Z
UID:8234-1789464600-1789471800@www.bonnethouse.org
SUMMARY:Orchid Care Basics
DESCRIPTION:Discover the Joy of Growing Orchids! \n\nNew to orchids? This class will teach you how to select the right plants for your growing conditions and provide the essentials—water\, light\, fertilizer\, and temperature—so your orchids thrive and bloom beautifully. Begin your journey into the fascinating world of orchid growing! \nAfter each class\, enjoy a guided tour of our Orchid Display House and Greenhouses\, where you’ll see stunning varieties and learn tips from our experts. \n\n\nTuesday\, September 15\n9:30 – 11:30 am \n$30 members / $35 non-members (all sales are final and non-refundable) \nRegister Here!
URL:https://www.bonnethouse.org/event/orchid-care-basics-2/
LOCATION:Bonnet House Museum & Gardens\, 900 N. Birch Road\, Fort Lauderdale\, FL\, 33304\, United States
CATEGORIES:Adult Classes
ATTACH;FMTTYPE=image/jpeg:https://www.bonnethouse.org/wp-content/uploads/2018/03/072-DSC_1093.jpg
END:VEVENT
BEGIN:VEVENT
DTSTART;TZID=UTC:20260915T130000
DTEND;TZID=UTC:20260915T150000
DTSTAMP:20260421T123813
CREATED:20170509T190026Z
LAST-MODIFIED:20260421T145334Z
UID:8239-1789477200-1789484400@www.bonnethouse.org
SUMMARY:Orchid Care - Repotting & Mounting plus Combating Pests & Diseases 1pm
DESCRIPTION:This class will cover all aspects of transplanting with emphasis on techniques and the use of different materials including cork\, driftwood\, plaques\, baskets and mounting on trees. Proper sterilization of tools will also be discussed in order to limit spread of virus to your collection.  Each class is followed by a guided tour of our Orchid Display House as well our Orchid Greenhouses. \nJoin our orchid curator\, Jose Exposito\, and his team of orchid care experts on the historic Bonnet House Estate for orchid cultivation classes.  Jose is the founder of Soroa Orchids\, senior judge of the American Orchid Society\, world renowned speaker including World Orchid Conferences in Brazil and Malaysia. He has been featured in Orchids Magazine\, Vogue\, Martha Stewart Show\, and many other National and International publications. \nTuesday\, September 15\n1:00 – 3:00 pm \n$30 Member/$35 Non-Member. All class registrations are final and non-refundable.\nRegister Here!
URL:https://www.bonnethouse.org/event/orchid-care-repotting-mounting/
LOCATION:Bonnet House Museum & Gardens\, 900 N. Birch Road\, Fort Lauderdale\, FL\, 33304\, United States
CATEGORIES:Adult Classes
ATTACH;FMTTYPE=image/jpeg:https://www.bonnethouse.org/wp-content/uploads/2017/02/calendar-front.jpg
END:VEVENT
BEGIN:VEVENT
DTSTART;TZID=America/New_York:20270223T093000
DTEND;TZID=America/New_York:20270223T113000
DTSTAMP:20260421T123813
CREATED:20260421T150225Z
LAST-MODIFIED:20260421T150225Z
UID:13947-1803375000-1803382200@www.bonnethouse.org
SUMMARY:Orchid Care Basics
DESCRIPTION:Discover the Joy of Growing Orchids! \n\nNew to orchids? This class will teach you how to select the right plants for your growing conditions and provide the essentials—water\, light\, fertilizer\, and temperature—so your orchids thrive and bloom beautifully. Begin your journey into the fascinating world of orchid growing! \nAfter each class\, enjoy a guided tour of our Orchid Display House and Greenhouses\, where you’ll see stunning varieties and learn tips from our experts. \n\n\nTuesday\, February 23\n9:30 – 11:30 am \n$30 members / $35 non-members (all sales are final and non-refundable) \nRegister Here!
URL:https://www.bonnethouse.org/event/orchid-care-basics/
LOCATION:FL
CATEGORIES:Adult Classes
ATTACH;FMTTYPE=image/jpeg:https://www.bonnethouse.org/wp-content/uploads/2024/07/IMG_3961-scaled.jpg
END:VEVENT
BEGIN:VEVENT
DTSTART;TZID=America/New_York:20270223T130000
DTEND;TZID=America/New_York:20270223T150000
DTSTAMP:20260421T123813
CREATED:20201124T173637Z
LAST-MODIFIED:20260421T145841Z
UID:12050-1803387600-1803394800@www.bonnethouse.org
SUMMARY:Orchid Care - Repotting & Mounting plus Combating Pests & Diseases 1pm
DESCRIPTION:Master the Art of Orchid Transplanting \n\nThis hands-on class will cover every aspect of orchid transplanting\, with a focus on proven techniques and the use of diverse materials such as cork\, driftwood\, plaques\, baskets\, and even mounting on trees. You’ll also learn the importance of proper tool sterilization to prevent the spread of viruses and keep your collection healthy. \nEach class concludes with a guided tour of our Orchid Display House and Greenhouses\, offering an up-close look at stunning orchid varieties and expert care practices. \nMeet Your Instructor\nJoin our esteemed orchid curator\, Jose Exposito\, and his team of orchid care specialists on the historic Bonnet House Estate for these exclusive cultivation classes. Jose is the founder of Soroa Orchids\, a senior judge with the American Orchid Society\, and a world-renowned speaker featured at World Orchid Conferences in Brazil and Malaysia. His expertise has been highlighted in Orchids Magazine\, Vogue\, the Martha Stewart Show\, and numerous national and international publications. \n\nTuesday\, February 23\n1:00 – 3:00 pm \n$30 Member/$35 Non -Member. All class registrations are final and non-refundable. \nRegister Here!
URL:https://www.bonnethouse.org/event/orchid-care-repotting-mounting-plus-combatting-pests-diseases/
LOCATION:FL
CATEGORIES:Adult Classes
ATTACH;FMTTYPE=image/jpeg:https://www.bonnethouse.org/wp-content/uploads/2020/08/IMG_20190326_111944803-scaled.jpg
END:VEVENT
END:VCALENDAR