BEGIN:VCALENDAR
VERSION:2.0
PRODID:-//Bonnet House - ECPv6.15.14//NONSGML v1.0//EN
CALSCALE:GREGORIAN
METHOD:PUBLISH
X-ORIGINAL-URL:https://www.bonnethouse.org
X-WR-CALDESC:Events for Bonnet House
REFRESH-INTERVAL;VALUE=DURATION:PT1H
X-Robots-Tag:noindex
X-PUBLISHED-TTL:PT1H
BEGIN:VTIMEZONE
TZID:UTC
BEGIN:STANDARD
TZOFFSETFROM:+0000
TZOFFSETTO:+0000
TZNAME:UTC
DTSTART:20180101T000000
END:STANDARD
END:VTIMEZONE
BEGIN:VEVENT
DTSTART;TZID=UTC:20190328T183000
DTEND;TZID=UTC:20190328T203000
DTSTAMP:20260419T111923
CREATED:20180618T222700Z
LAST-MODIFIED:20190212T210133Z
UID:9320-1553797800-1553805000@www.bonnethouse.org
SUMMARY:The Veranda Sessions
DESCRIPTION:Bonnet House Museum & Gardens invites you to “The Veranda Sessions” a raw\, creative musical experience on the Bonnet House Veranda.  The last of two sessions features New York’s Avant garde jazz trio the Daniel Bennett Group on Thursday\, March 28th.  Click here to watch a video of the Daniel Bennett Group. \nParking lot opens at 6:00pm. Doors open at 6:30pm. Wine & Redemption Whiskey Service 6:30-7:00pm. Concert begins at 7:00pm.  \n$30 (Wine\, Beer & Redemption Whiskey samples included).  Ticket sales are final and non-refundable
URL:https://www.bonnethouse.org/event/the-veranda-sessions-2/
CATEGORIES:Concerts
ATTACH;FMTTYPE=image/jpeg:https://www.bonnethouse.org/wp-content/uploads/2018/06/Daniel-Bennett-Group-Promo-Photo-by-Alexa-Drew.jpg
END:VEVENT
END:VCALENDAR