BEGIN:VCALENDAR
VERSION:2.0
PRODID:-//Bonnet House - ECPv6.15.20//NONSGML v1.0//EN
CALSCALE:GREGORIAN
METHOD:PUBLISH
X-WR-CALNAME:Bonnet House
X-ORIGINAL-URL:https://www.bonnethouse.org
X-WR-CALDESC:Events for Bonnet House
REFRESH-INTERVAL;VALUE=DURATION:PT1H
X-Robots-Tag:noindex
X-PUBLISHED-TTL:PT1H
BEGIN:VTIMEZONE
TZID:UTC
BEGIN:STANDARD
TZOFFSETFROM:+0000
TZOFFSETTO:+0000
TZNAME:UTC
DTSTART:20180101T000000
END:STANDARD
END:VTIMEZONE
BEGIN:VEVENT
DTSTART;TZID=UTC:20190706T090000
DTEND;TZID=UTC:20190706T160000
DTSTAMP:20260425T104534
CREATED:20170322T231005Z
LAST-MODIFIED:20190321T153541Z
UID:7884-1562403600-1562428800@www.bonnethouse.org
SUMMARY:Cool Saturdays
DESCRIPTION:Cool Saturdays take place the first Saturday of the month July through October. Visitors can explore the whimsical house where fish sculptures rise in the air\, shells have their own museum and shady nature trails invite you to search for playful monkeys in the trees and majestic swans in the fresh water lakes. Admission is $10 for adults and free for children 12 and under from 9am to 4pm on these days. No other discounts apply. Tickets available at the door. \nSpecific dates are: July 6\, August 3\, September 7 and October 5. Tour admission is always free for Bonnet House members.
URL:https://www.bonnethouse.org/event/cool-saturdays-summer-special-july/
LOCATION:Bonnet House Museum & Gardens\, 900 N. Birch Road\, Fort Lauderdale\, FL\, 33304\, United States
CATEGORIES:Cool Saturdays
ATTACH;FMTTYPE=image/jpeg:https://www.bonnethouse.org/wp-content/uploads/2017/03/Cool-Saturdays-postcard-front-2018-Cropped.jpg
END:VEVENT
END:VCALENDAR