BEGIN:VCALENDAR
VERSION:2.0
PRODID:-//Bonnet House - ECPv6.15.20//NONSGML v1.0//EN
CALSCALE:GREGORIAN
METHOD:PUBLISH
X-ORIGINAL-URL:https://www.bonnethouse.org
X-WR-CALDESC:Events for Bonnet House
REFRESH-INTERVAL;VALUE=DURATION:PT1H
X-Robots-Tag:noindex
X-PUBLISHED-TTL:PT1H
BEGIN:VTIMEZONE
TZID:UTC
BEGIN:STANDARD
TZOFFSETFROM:+0000
TZOFFSETTO:+0000
TZNAME:UTC
DTSTART:20190101T000000
END:STANDARD
END:VTIMEZONE
BEGIN:VEVENT
DTSTART;VALUE=DATE:20200601
DTEND;VALUE=DATE:20220701
DTSTAMP:20260423T102532
CREATED:20190510T133327Z
LAST-MODIFIED:20210920T161155Z
UID:8187-1590969600-1656633599@www.bonnethouse.org
SUMMARY:A Night at the Museum
DESCRIPTION:BONNET HOUSE MUSEUM & GARDENS\nOFFERS IMMERSIVE PROGRAM TO CELEBRATE 100 YEARS\n \n\n\nPatrons can Participate in a Once-In-A-Lifetime “Night at the Museum”\nOvernight Stay and Dinner for Two or a Luxurious Dinner for Eight\n \nAs part of the Re-Vitalize Campaign\, and for a donation of $5\,000\, the historic and whimsical 35-acre subtropical estate\, located in the heart of Fort Lauderdale\, will be offering a once in a lifetime experience that includes a luxurious dinner for two and an overnight stay in their newly renovated guest suite. The curated experience will immerse participants in the leisurely life enjoyed at a 1930s era beachfront estate including the rare opportunity to tour the property like never before with accommodations for two in a newly refurbished second-floor suite\, dinner for two on the veranda with an exquisitely designed personalized menu\, and breakfast in the morning with Bloody Mary’s and mimosas. \n \nSeparately and for a donation of $5\,000 to the Re-Vitalize Campaign\, visitors can enjoy the elegant entertaining tradition of the Bonnet House estate\, just as its iconic former owners\, Frederic and Evelyn Bartlett did.  This experience for eight includes a specially curated tour\, pre-dinner cocktails\, and dinner on the veranda or moon-lit courtyard.  Menu options may be exquisitely personalized and could include dishes like a scrumptious lobster first course\, steak\, and a full open bar. \n \nFor more information contact Darla L. Stanton\, Director of Development\ndarlastanton@bonnethouse.org or 954-653-1557\n\n\n\nFor all donations\, except for Night at the Museum gifts\, no goods or services are provided as consideration for this gift. The entire gift amount is eligible for deduction. For Night at the Museum Dinner gifts\, $3\,000 is tax-deductible and for Night at the Museum Sleepover gifts\, $4\,000 is tax-deductible. \n\n\n\nAs storytelling and sharing is integral for any establishment that has reached the milestone of 100 years\, fans are invited to share their Bonnet House memories on social media with the hashtag\, #BonnetHouse100 on the property’s Facebook\, Instagram and Twitter channels. \n \n__________________________________________________ \n\nHelp us celebrate our new independence by giving to our 100th Anniversary to\npreserve Bonnet House for another 100 years!\n \nYour entire gift is 100% tax deductible\, too.\n\nThank you to our generous Centennial sponsors – The Haller Foundation\, The Kolter Group\, A Alexander Event Catering\, Seminole Hard Rock Hotel & Casino\, Platinum Tents\, McLaughlin Engineering Company\, Josh Wine & Redemption Whiskey. \n \n\n 
URL:https://www.bonnethouse.org/event/100thanniversary/
LOCATION:Bonnet House Museum & Gardens\, 900 N. Birch Road\, Fort Lauderdale\, FL\, 33304\, United States
CATEGORIES:100th Anniversary
END:VEVENT
BEGIN:VEVENT
DTSTART;VALUE=DATE:20210615
DTEND;VALUE=DATE:20211224
DTSTAMP:20260423T102532
CREATED:20180109T191223Z
LAST-MODIFIED:20220815T141618Z
UID:8836-1623715200-1640303999@www.bonnethouse.org
SUMMARY:Guided House Tour
DESCRIPTION:Enjoy a guided tour of the house with one of our seasoned Bonnet House docents.  Limited to 14 visitors per tour.  Parking is free. Enter through the Main Visitor Parking Lot on 9th Street off Birch Road / West Gate.  Pre-registration is required. Reservations close 24 hours prior to the scheduled start time. \nGuided tours take place:\nTuesday thru Friday:  10:00 am – 11:30 am and 2:00 pm – 3:30 pm\nSaturday: 10:00 am – 11:30 am \nAdults:  $25\nAge 8-16: $10\, not recommended for children 7 and younger.\nNo discounts apply. All sales are final and non-refundable. \nNo videos are permitted on Bonnet House guided tours. Guided tour guests must follow the direction of tour guides in taking photographs. Guides may limit time for photographs subject to the needs of Bonnet House and the enjoyment of fellow guests. \nMembers at the Hibiscus level and above\, please pre-register for Guided Tours 24 hours before the start time of the preferred tour.  Please call or email  (954) 703-2606 or volunteer@bonnethouse.org. \n 
URL:https://www.bonnethouse.org/event/guided-house-tour-2/
CATEGORIES:Specialty Tours
ATTACH;FMTTYPE=image/jpeg:https://www.bonnethouse.org/wp-content/uploads/2017/02/3.5a.jpg
END:VEVENT
END:VCALENDAR