BEGIN:VCALENDAR
VERSION:2.0
PRODID:-//Bonnet House - ECPv6.15.20//NONSGML v1.0//EN
CALSCALE:GREGORIAN
METHOD:PUBLISH
X-ORIGINAL-URL:https://www.bonnethouse.org
X-WR-CALDESC:Events for Bonnet House
REFRESH-INTERVAL;VALUE=DURATION:PT1H
X-Robots-Tag:noindex
X-PUBLISHED-TTL:PT1H
BEGIN:VTIMEZONE
TZID:America/New_York
BEGIN:DAYLIGHT
TZOFFSETFROM:-0500
TZOFFSETTO:-0400
TZNAME:EDT
DTSTART:20210314T070000
END:DAYLIGHT
BEGIN:STANDARD
TZOFFSETFROM:-0400
TZOFFSETTO:-0500
TZNAME:EST
DTSTART:20211107T060000
END:STANDARD
BEGIN:DAYLIGHT
TZOFFSETFROM:-0500
TZOFFSETTO:-0400
TZNAME:EDT
DTSTART:20220313T070000
END:DAYLIGHT
BEGIN:STANDARD
TZOFFSETFROM:-0400
TZOFFSETTO:-0500
TZNAME:EST
DTSTART:20221106T060000
END:STANDARD
BEGIN:DAYLIGHT
TZOFFSETFROM:-0500
TZOFFSETTO:-0400
TZNAME:EDT
DTSTART:20230312T070000
END:DAYLIGHT
BEGIN:STANDARD
TZOFFSETFROM:-0400
TZOFFSETTO:-0500
TZNAME:EST
DTSTART:20231105T060000
END:STANDARD
END:VTIMEZONE
BEGIN:VEVENT
DTSTART;TZID=America/New_York:20221207T170000
DTEND;TZID=America/New_York:20221207T180000
DTSTAMP:20260424T100047
CREATED:20190624T180746Z
LAST-MODIFIED:20220817T160009Z
UID:10350-1670432400-1670436000@www.bonnethouse.org
SUMMARY:Holiday Floral Arrangement Class
DESCRIPTION:Learn how to create your very own holiday arrangement with Victoria Park Flower Studio on the beautiful Bonnet House Veranda. \nThe class is limited to 25 and is $55 per person. The fee includes a self-guided tour of the house from 6:00-8:00 pm where you can decide on your favorite trees\, wreaths\, and centerpieces designed by local artists. Live music and libations each night! \nFresh Flowers · Gorgeous Centerpiece · Renowned Victoria Park Flower Studio · Night Tours with live entertainment · Gin & Jazz featuring Davis & Dow Wednesday\, December 7 · The Yuletide Carolers Thursday\, December 8 · And 2 drink tickets. All for $55 \n \n  \nSponsored by: Victoria Park Flower Studio
URL:https://www.bonnethouse.org/event/holiday-arrangement-class-2/
LOCATION:Bonnet House Museum & Gardens\, 900 N. Birch Road\, Fort Lauderdale\, FL\, 33304\, United States
CATEGORIES:Adult Classes,Holiday Magic
ATTACH;FMTTYPE=image/jpeg:https://www.bonnethouse.org/wp-content/uploads/2019/05/CWP2019_bonnetholiday121219-33-scaled.jpg
END:VEVENT
BEGIN:VEVENT
DTSTART;TZID=America/New_York:20221208T170000
DTEND;TZID=America/New_York:20221208T180000
DTSTAMP:20260424T100047
CREATED:20210811T190015Z
LAST-MODIFIED:20221121T181739Z
UID:12364-1670518800-1670522400@www.bonnethouse.org
SUMMARY:Holiday Floral Arrangement Class
DESCRIPTION:Learn how to create your very own holiday arrangement with Victoria Park Flower Studio on the beautiful Bonnet House Veranda. \nThe class is limited to 25 and is $55 per person. The fee includes a self-guided tour of the house from 6:00-8:00 pm where you can decide on your favorite trees\, wreaths\, and centerpieces designed by local artists. Live music and libations each night! \nFresh Flowers · Gorgeous Centerpiece · Renowned Victoria Park Flower Studio · Night Tours with live entertainment · Gin & Jazz featuring Davis & Dow Wednesday\, December 7 · The Yuletide Carolers Thursday\, December 8 · And 2 drink tickets. All for $55 \n \n  \nSponsored by: Victoria Park Flower Studio
URL:https://www.bonnethouse.org/event/holiday-floral-arrangement-class/
LOCATION:Bonnet House Museum & Gardens\, 900 N. Birch Road\, Fort Lauderdale\, FL\, 33304\, United States
CATEGORIES:Adult Classes,Holiday Magic
ATTACH;FMTTYPE=image/jpeg:https://www.bonnethouse.org/wp-content/uploads/2019/05/CWP2019_bonnetholiday121219-33-scaled.jpg
END:VEVENT
END:VCALENDAR