BEGIN:VCALENDAR
VERSION:2.0
PRODID:-//Bonnet House - ECPv6.15.14//NONSGML v1.0//EN
CALSCALE:GREGORIAN
METHOD:PUBLISH
X-ORIGINAL-URL:https://www.bonnethouse.org
X-WR-CALDESC:Events for Bonnet House
REFRESH-INTERVAL;VALUE=DURATION:PT1H
X-Robots-Tag:noindex
X-PUBLISHED-TTL:PT1H
BEGIN:VTIMEZONE
TZID:America/New_York
BEGIN:DAYLIGHT
TZOFFSETFROM:-0500
TZOFFSETTO:-0400
TZNAME:EDT
DTSTART:20220313T070000
END:DAYLIGHT
BEGIN:STANDARD
TZOFFSETFROM:-0400
TZOFFSETTO:-0500
TZNAME:EST
DTSTART:20221106T060000
END:STANDARD
BEGIN:DAYLIGHT
TZOFFSETFROM:-0500
TZOFFSETTO:-0400
TZNAME:EDT
DTSTART:20230312T070000
END:DAYLIGHT
BEGIN:STANDARD
TZOFFSETFROM:-0400
TZOFFSETTO:-0500
TZNAME:EST
DTSTART:20231105T060000
END:STANDARD
BEGIN:DAYLIGHT
TZOFFSETFROM:-0500
TZOFFSETTO:-0400
TZNAME:EDT
DTSTART:20240310T070000
END:DAYLIGHT
BEGIN:STANDARD
TZOFFSETFROM:-0400
TZOFFSETTO:-0500
TZNAME:EST
DTSTART:20241103T060000
END:STANDARD
END:VTIMEZONE
BEGIN:VEVENT
DTSTART;TZID=America/New_York:20230603T093000
DTEND;TZID=America/New_York:20230603T133000
DTSTAMP:20260421T101402
CREATED:20210702T182143Z
LAST-MODIFIED:20230404T165541Z
UID:12309-1685784600-1685799000@www.bonnethouse.org
SUMMARY:Creative Healing with Colored Pencil Drawing
DESCRIPTION:Discover the Healing Power of Mindfulness using the Art of Colored Pencil Drawing \nExplore the transformative\, healing power of creativity in this four-week class that integrates mindfulness\, and meditation with the versatile medium of colored pencil art. Open to all experience levels\, you will deepen your understanding of self through a series of activities co-facilitated by award-winning master artist Galal Ramadan and certified MBSR teacher Piero Falci. Mindful meditation will be outside in nature. \nSaturdays\, June 3 through June 24\, 2023\n4-week/4 hour workshop with a 30-minute lunch break\n9:30 am-1:30 pm\n$245 Members/$265 Non-Members\nClass is limited to 12 participants in the air-conditioned Island Theater
URL:https://www.bonnethouse.org/event/creative-healing-colored-pencil-drawing/
CATEGORIES:Adult Classes
ATTACH;FMTTYPE=image/jpeg:https://www.bonnethouse.org/wp-content/uploads/2021/07/CreativeHealingFlier-e1679598799982.jpg
END:VEVENT
END:VCALENDAR