BEGIN:VCALENDAR
VERSION:2.0
PRODID:-//Bonnet House - ECPv6.15.20//NONSGML v1.0//EN
CALSCALE:GREGORIAN
METHOD:PUBLISH
X-WR-CALNAME:Bonnet House
X-ORIGINAL-URL:https://www.bonnethouse.org
X-WR-CALDESC:Events for Bonnet House
REFRESH-INTERVAL;VALUE=DURATION:PT1H
X-Robots-Tag:noindex
X-PUBLISHED-TTL:PT1H
BEGIN:VTIMEZONE
TZID:UTC
BEGIN:STANDARD
TZOFFSETFROM:+0000
TZOFFSETTO:+0000
TZNAME:UTC
DTSTART:20250101T000000
END:STANDARD
END:VTIMEZONE
BEGIN:VEVENT
DTSTART;TZID=UTC:20260219T093000
DTEND;TZID=UTC:20260219T123000
DTSTAMP:20260425T100141
CREATED:20170626T234941Z
LAST-MODIFIED:20250605T135940Z
UID:8431-1771493400-1771504200@www.bonnethouse.org
SUMMARY:Acrylic Workshop February
DESCRIPTION:Acrylic Painting Workshop with Bonnie Opie \nJoin fine artist Bonnie Opie for a creative journey in the beautiful Bonnet House gardens. \nThis workshop introduces the basic principles of acrylic painting\, with guided instruction and plenty of time to paint outdoors in a serene\, shaded setting. \nPerfect for artists of all levels looking to explore or deepen their acrylic painting practice in an inspiring environment. \nSix-Week Workshop\nThursdays\, February 19 – March 26\, 2026\n9:30 am – 12:30 pm \n$220 members / $250 non-members (all sales are final and non-refundable) \nRegister Here! \n 
URL:https://www.bonnethouse.org/event/acrylic-feb/
LOCATION:Bonnet House Museum & Gardens\, 900 N. Birch Road\, Fort Lauderdale\, FL\, 33304\, United States
CATEGORIES:Adult Classes
ATTACH;FMTTYPE=image/jpeg:https://www.bonnethouse.org/wp-content/uploads/2017/06/BonnieOpie-scaled-e1675798160276.jpeg
END:VEVENT
END:VCALENDAR