BEGIN:VCALENDAR
VERSION:2.0
PRODID:-//Bonnet House - ECPv6.15.14//NONSGML v1.0//EN
CALSCALE:GREGORIAN
METHOD:PUBLISH
X-ORIGINAL-URL:https://www.bonnethouse.org
X-WR-CALDESC:Events for Bonnet House
REFRESH-INTERVAL;VALUE=DURATION:PT1H
X-Robots-Tag:noindex
X-PUBLISHED-TTL:PT1H
BEGIN:VTIMEZONE
TZID:America/New_York
BEGIN:DAYLIGHT
TZOFFSETFROM:-0500
TZOFFSETTO:-0400
TZNAME:EDT
DTSTART:20250309T070000
END:DAYLIGHT
BEGIN:STANDARD
TZOFFSETFROM:-0400
TZOFFSETTO:-0500
TZNAME:EST
DTSTART:20251102T060000
END:STANDARD
BEGIN:DAYLIGHT
TZOFFSETFROM:-0500
TZOFFSETTO:-0400
TZNAME:EDT
DTSTART:20260308T070000
END:DAYLIGHT
BEGIN:STANDARD
TZOFFSETFROM:-0400
TZOFFSETTO:-0500
TZNAME:EST
DTSTART:20261101T060000
END:STANDARD
BEGIN:DAYLIGHT
TZOFFSETFROM:-0500
TZOFFSETTO:-0400
TZNAME:EDT
DTSTART:20270314T070000
END:DAYLIGHT
BEGIN:STANDARD
TZOFFSETFROM:-0400
TZOFFSETTO:-0500
TZNAME:EST
DTSTART:20271107T060000
END:STANDARD
END:VTIMEZONE
BEGIN:VEVENT
DTSTART;TZID=America/New_York:20260513T160000
DTEND;TZID=America/New_York:20260513T180000
DTSTAMP:20260420T053415
CREATED:20250529T155227Z
LAST-MODIFIED:20260123T211702Z
UID:13731-1778688000-1778695200@www.bonnethouse.org
SUMMARY:Bonnet House Fine Artists Opening Reception
DESCRIPTION:Step into a vibrant celebration of local creativity in the Gallery’s middle room\, where the Bonnet House Fine Artists’ Exhibits showcase a rotating collection of works by talented regional artists. \nJoin us for each exhibit’s opening reception\, where you’ll enjoy a sparkling wine welcome\, delicious hors d’oeuvres\, and a cash bar offering beer\, wine\, and soda. \nIt’s a relaxed and inviting setting—perfect for connecting with the artists and fellow art enthusiasts.  \n$5 Members\, $10 Non-Members (Pre-registration is required) \nClick here to purchase tickets. \nGenerously sponsored by:  Kimpton Shorebreak Fort Lauderdale Beach Resort\, Brody & Brody\, P.A. & Mary Joe and Richard Brown.
URL:https://www.bonnethouse.org/event/bonnet-house-fine-artists-opening-reception-3/
CATEGORIES:Art Exhibits
ATTACH;FMTTYPE=image/jpeg:https://www.bonnethouse.org/wp-content/uploads/2024/09/FredericBartlettPaintingKentPlanckLectureFeb2025.jpg
END:VEVENT
BEGIN:VEVENT
DTSTART;TZID=America/New_York:20260515T093000
DTEND;TZID=America/New_York:20260515T123000
DTSTAMP:20260420T053415
CREATED:20250218T152436Z
LAST-MODIFIED:20260409T213135Z
UID:13635-1778837400-1778848200@www.bonnethouse.org
SUMMARY:Homeschool Program - Pollinators to Decomposers
DESCRIPTION:POLLINATORS TO DECOMPOSERS\nPollinators and decomposers each play vital roles in sustaining life and balancing our tropical ecosystems \nOur curated Onsite Homeschool Programs allow parents and their children to visit\, tour\, and experience this unique 35-acre natural environment and historic residence of American Artists Frederic and Evelyn Bartlett. Students will receive templates and worksheets useful for further exploration and year-end portfolio record-keeping. \nPre-Registration is required. \nCost\nMembers – $7 (Ages 5 – 17)\, $15 Adults\nNon-members: $10 (Ages 5 – 17)\, $25 Adults \nProgram Date & Time\nFriday\, May 15\, 2026\n3 hours (9:30 am – 12:30 pm)\nMaximum of 25 participants per program \nRegister Here
URL:https://www.bonnethouse.org/event/homeschool_may/
CATEGORIES:Kids Program
ATTACH;FMTTYPE=image/jpeg:https://www.bonnethouse.org/wp-content/uploads/2024/04/Designer-15.jpg
END:VEVENT
BEGIN:VEVENT
DTSTART;TZID=America/New_York:20260715T160000
DTEND;TZID=America/New_York:20260715T180000
DTSTAMP:20260420T053415
CREATED:20250529T160229Z
LAST-MODIFIED:20260123T211957Z
UID:13733-1784131200-1784138400@www.bonnethouse.org
SUMMARY:Bonnet House Fine Artists Opening Reception
DESCRIPTION:Step into a vibrant celebration of local creativity in the Gallery’s middle room\, where the Bonnet House Fine Artists’ Exhibits showcase a rotating collection of works by talented regional artists. \nJoin us for each exhibit’s opening reception\, where you’ll enjoy a sparkling wine welcome\, delicious hors d’oeuvres\, and a cash bar offering beer\, wine\, and soda. \nIt’s a relaxed and inviting setting—perfect for connecting with the artists and fellow art enthusiasts.  \n$5 Members\, $10 Non-Members (Pre-registration is required)\nRegister Here!\nGenerously sponsored by:  Kimpton Shorebreak Fort Lauderdale Beach Resort\, Brody & Brody\, P.A. & Mary Joe and Richard Brown.
URL:https://www.bonnethouse.org/event/bonnet-house-fine-artists-opening-reception-4/
CATEGORIES:Art Exhibits
ATTACH;FMTTYPE=image/jpeg:https://www.bonnethouse.org/wp-content/uploads/2024/09/FredericBartlettPaintingKentPlanckLectureFeb2025.jpg
END:VEVENT
END:VCALENDAR