BEGIN:VCALENDAR
VERSION:2.0
PRODID:-//Bonnet House - ECPv6.15.14//NONSGML v1.0//EN
CALSCALE:GREGORIAN
METHOD:PUBLISH
X-ORIGINAL-URL:https://www.bonnethouse.org
X-WR-CALDESC:Events for Bonnet House
REFRESH-INTERVAL;VALUE=DURATION:PT1H
X-Robots-Tag:noindex
X-PUBLISHED-TTL:PT1H
BEGIN:VTIMEZONE
TZID:America/New_York
BEGIN:DAYLIGHT
TZOFFSETFROM:-0500
TZOFFSETTO:-0400
TZNAME:EDT
DTSTART:20240310T070000
END:DAYLIGHT
BEGIN:STANDARD
TZOFFSETFROM:-0400
TZOFFSETTO:-0500
TZNAME:EST
DTSTART:20241103T060000
END:STANDARD
BEGIN:DAYLIGHT
TZOFFSETFROM:-0500
TZOFFSETTO:-0400
TZNAME:EDT
DTSTART:20250309T070000
END:DAYLIGHT
BEGIN:STANDARD
TZOFFSETFROM:-0400
TZOFFSETTO:-0500
TZNAME:EST
DTSTART:20251102T060000
END:STANDARD
BEGIN:DAYLIGHT
TZOFFSETFROM:-0500
TZOFFSETTO:-0400
TZNAME:EDT
DTSTART:20260308T070000
END:DAYLIGHT
BEGIN:STANDARD
TZOFFSETFROM:-0400
TZOFFSETTO:-0500
TZNAME:EST
DTSTART:20261101T060000
END:STANDARD
END:VTIMEZONE
BEGIN:VEVENT
DTSTART;TZID=America/New_York:20251008T183000
DTEND;TZID=America/New_York:20251008T203000
DTSTAMP:20260419T225027
CREATED:20250529T153959Z
LAST-MODIFIED:20251008T155458Z
UID:13728-1759948200-1759955400@www.bonnethouse.org
SUMMARY:Secret Ft. Lauderdale Book Signing
DESCRIPTION:Secret Fort Lauderdale Meet & Greet and Book Signing with Author Christiana Lily \nDiscover the curious tales of Greater Fort Lauderdale while enjoying a delightful glass of wine on the waterfront Veranda. This is a great opportunity to connect with the local literary scene and explore the city’s fascinating history. \nWednesday\, October 8\, 2025\, from 6:30 p.m. to 8:30 p.m. \nDid you know Evelyn Fortune Bartlett was the ultimate hostess for her guests to the Bonnet House? Learn more about the eccentric artist from the author of the brand-new “Secret Fort Lauderdale\,” which highlights other obscure\, weird and wonderful stories from Greater Fort Lauderdale. You just might leave with the recipe to Evelyn’s iconic cocktail! \n$10 \nRegister Here! \n 
URL:https://www.bonnethouse.org/event/secret/
CATEGORIES:Art Exhibits
ATTACH;FMTTYPE=image/jpeg:https://www.bonnethouse.org/wp-content/uploads/2025/05/Secret-Lauderdale-cover-scaled.jpg
END:VEVENT
END:VCALENDAR