BEGIN:VCALENDAR
VERSION:2.0
PRODID:-//Bonnet House - ECPv6.15.20//NONSGML v1.0//EN
CALSCALE:GREGORIAN
METHOD:PUBLISH
X-ORIGINAL-URL:https://www.bonnethouse.org
X-WR-CALDESC:Events for Bonnet House
REFRESH-INTERVAL;VALUE=DURATION:PT1H
X-Robots-Tag:noindex
X-PUBLISHED-TTL:PT1H
BEGIN:VTIMEZONE
TZID:UTC
BEGIN:STANDARD
TZOFFSETFROM:+0000
TZOFFSETTO:+0000
TZNAME:UTC
DTSTART:20240101T000000
END:STANDARD
END:VTIMEZONE
BEGIN:VEVENT
DTSTART;TZID=UTC:20250812T093000
DTEND;TZID=UTC:20250812T113000
DTSTAMP:20260423T095503
CREATED:20170509T183550Z
LAST-MODIFIED:20250515T135232Z
UID:8231-1754991000-1754998200@www.bonnethouse.org
SUMMARY:Orchid Care Repotting & Mounting
DESCRIPTION:This class will cover all aspects of transplanting with emphasis on techniques and the use of different materials including cork\, driftwood\, plaques\, baskets\, and mounting on trees. Proper sterilization of tools will also be discussed in order to limit the spread of viruses to your collection.  Each class is followed by a guided tour of our Orchid Display House as well as our Orchid Greenhouses. \nJoin our orchid curator\, Jose Exposito\, and his team of orchid care experts on the historic Bonnet House Estate for orchid cultivation classes.  Jose is the founder of Soroa Orchids\, senior judge of the American Orchid Society\, world-renowned speaker including World Orchid Conferences in Brazil and Malaysia. He has been featured in Orchids Magazine\, Vogue\, Martha Stewart Show\, and many other National and International publications. \n\nTuesday\, August 12\n9:30 – 11:30 am\n$30 members / $35 non-members (all sales are final and non-refundable) \nRegister Here!
URL:https://www.bonnethouse.org/event/orchid-care-repotting/
LOCATION:Bonnet House Museum & Gardens\, 900 N. Birch Road\, Fort Lauderdale\, FL\, 33304\, United States
CATEGORIES:Adult Classes
ATTACH;FMTTYPE=image/jpeg:https://www.bonnethouse.org/wp-content/uploads/2017/02/BH-2012-3.jpg
END:VEVENT
END:VCALENDAR